BEGIN:VCALENDAR
VERSION:2.0
PRODID:-//wp-events-plugin.com//7.2.3.1//EN
TZID:America/Chicago
X-WR-TIMEZONE:America/Chicago
BEGIN:VEVENT
UID:178@ucswi.org
DTSTART;TZID=America/Chicago;VALUE=DATE:20260520
DTEND;TZID=America/Chicago;VALUE=DATE:20260521
DTSTAMP:20250609T161748Z
URL:https://www.ucswi.org/events/last-day-of-school-4/
SUMMARY:Last Day of School
DESCRIPTION:
END:VEVENT
BEGIN:VTIMEZONE
TZID:America/Chicago
X-LIC-LOCATION:America/Chicago
BEGIN:DAYLIGHT
DTSTART:20260308T030000
TZOFFSETFROM:-0600
TZOFFSETTO:-0500
TZNAME:CDT
END:DAYLIGHT
END:VTIMEZONE
END:VCALENDAR